BEGIN:VCALENDAR
VERSION:2.0
PRODID:-//eventon.com NONSGML v1.0//EN
CALSCALE:GREGORIAN
METHOD:PUBLISH
BEGIN:VEVENT
UID:69e4dbf253b56
DTSTAMP:20260419T134314Z
DTSTART:20240102T030000Z
DTEND:20240102T070000Z
LOCATION:
SUMMARY:Celtic Arts Center
DESCRIPTION:\nhttps://mayflowerclub.com/events/celtic-arts-center/var/ri-6.
 l-L1
URL:https://mayflowerclub.com/events/celtic-arts-center/var/ri-6.l-L1
END:VEVENT
END:VCALENDAR