BEGIN:VCALENDAR
VERSION:2.0
PRODID:-//eventon.com NONSGML v1.0//EN
CALSCALE:GREGORIAN
METHOD:PUBLISH
BEGIN:VEVENT
UID:69e77edc3ffd6
DTSTAMP:20260421T134252Z
DTSTART:20220514T030000Z
DTEND:20220514T060000Z
LOCATION:
SUMMARY:Miss Mac and The Mean Men
DESCRIPTION:Miss Mac and The Mean Men\nhttps://mayflowerclub.com/events/swi
 ng-dance-lucky-seven/
URL:https://mayflowerclub.com/events/swing-dance-lucky-seven/
END:VEVENT
END:VCALENDAR