BEGIN:VCALENDAR
VERSION:2.0
PRODID:-//eventon.com NONSGML v1.0//EN
CALSCALE:GREGORIAN
METHOD:PUBLISH
BEGIN:VEVENT
UID:69eb8142e1eaa
DTSTAMP:20260424T144210Z
DTSTART:20220516T020000Z
DTEND:20220516T040000Z
LOCATION:
SUMMARY:Buzz Maddox Octet
DESCRIPTION:\nhttps://mayflowerclub.com/events/ballroom-sunday-night/
URL:https://mayflowerclub.com/events/ballroom-sunday-night/
END:VEVENT
END:VCALENDAR