BEGIN:VCALENDAR
VERSION:2.0
PRODID:-//eventon.com NONSGML v1.0//EN
CALSCALE:GREGORIAN
METHOD:PUBLISH
BEGIN:VEVENT
UID:69eb6e2563a59
DTSTAMP:20260424T132037Z
DTSTART:20220523T020000Z
DTEND:20220523T040000Z
LOCATION:
SUMMARY:Buzz Maddox Octet
DESCRIPTION:\nhttps://mayflowerclub.com/events/ballroom-sunday-night/var/ri
 -1.l-L1
URL:https://mayflowerclub.com/events/ballroom-sunday-night/var/ri-1.l-L1
END:VEVENT
END:VCALENDAR