BEGIN:VCALENDAR
VERSION:2.0
PRODID:-//eventon.com NONSGML v1.0//EN
CALSCALE:GREGORIAN
METHOD:PUBLISH
BEGIN:VEVENT
UID:69e8b5cc0e35e
DTSTAMP:20260422T114932Z
DTSTART:20220424T220000Z
DTEND:20220425T010000Z
LOCATION:
SUMMARY:The Importance of Being Earnest
DESCRIPTION:The Importance of Being Earnest Sunday 3-6pm\nhttps://mayflower
 club.com/events/the-importance-of-being-earnest/
URL:https://mayflowerclub.com/events/the-importance-of-being-earnest/
END:VEVENT
END:VCALENDAR