BEGIN:VCALENDAR
VERSION:2.0
PRODID:-//eventon.com NONSGML v1.0//EN
CALSCALE:GREGORIAN
METHOD:PUBLISH
BEGIN:VEVENT
UID:69e7dd521b3ac
DTSTAMP:20260421T202554Z
DTSTART:20221031T013000Z
DTEND:20221031T050000Z
LOCATION:
SUMMARY:Stump the Band Movie
DESCRIPTION:\nhttps://mayflowerclub.com/events/stump-the-band-movie/
URL:https://mayflowerclub.com/events/stump-the-band-movie/
END:VEVENT
END:VCALENDAR