BEGIN:VCALENDAR
VERSION:2.0
PRODID:-//eventon.com NONSGML v1.0//EN
CALSCALE:GREGORIAN
METHOD:PUBLISH
BEGIN:VEVENT
UID:69e5559b4f060
DTSTAMP:20260419T222219Z
DTSTART:20221001T230000Z
DTEND:20221002T020000Z
LOCATION:
SUMMARY:CELEBRATION OF QUEEN ELIZABETH ii
DESCRIPTION:\nhttps://mayflowerclub.com/events/celebration-of-queen-elizabe
 th-ll/
URL:https://mayflowerclub.com/events/celebration-of-queen-elizabeth-ll/
END:VEVENT
END:VCALENDAR