BEGIN:VCALENDAR
VERSION:2.0
PRODID:-//eventon.com NONSGML v1.0//EN
CALSCALE:GREGORIAN
METHOD:PUBLISH
BEGIN:VEVENT
UID:69eb36af75bd8
DTSTAMP:20260424T092359Z
DTSTART:20260109T210000Z
DTEND:20260109T230000Z
LOCATION:
SUMMARY:BBF Woody James Legacy Band
DESCRIPTION:\nhttps://mayflowerclub.com/events/bbf-woody-james-legacy-band-
 2/
URL:https://mayflowerclub.com/events/bbf-woody-james-legacy-band-2/
END:VEVENT
END:VCALENDAR