BEGIN:VCALENDAR
VERSION:2.0
PRODID:-//eventon.com NONSGML v1.0//EN
CALSCALE:GREGORIAN
METHOD:PUBLISH
BEGIN:VEVENT
UID:69e88a0b9e8a5
DTSTAMP:20260422T084251Z
DTSTART:20230303T040000Z
DTEND:20230303T050000Z
LOCATION:
SUMMARY:Social Dance (after workshop; no early entry)
DESCRIPTION:Social Dance (after workshop; no early entry)\nhttps://mayflowe
 rclub.com/events/social-dance-after-workshop-no-early-entry/
URL:https://mayflowerclub.com/events/social-dance-after-workshop-no-early-entry/
END:VEVENT
END:VCALENDAR