BEGIN:VCALENDAR
VERSION:2.0
PRODID:-//eventon.com NONSGML v1.0//EN
CALSCALE:GREGORIAN
METHOD:PUBLISH
BEGIN:VEVENT
UID:69ea33e59784f
DTSTAMP:20260423T145949Z
DTSTART:20230320T020000Z
DTEND:20230320T060000Z
LOCATION:
SUMMARY:An Evening of Celtic Music & Spirituality
DESCRIPTION:\nhttps://mayflowerclub.com/events/an-evening-of-celtic-music-s
 pirituality/
URL:https://mayflowerclub.com/events/an-evening-of-celtic-music-spirituality/
END:VEVENT
END:VCALENDAR