BEGIN:VCALENDAR
VERSION:2.0
PRODID:-//eventon.com NONSGML v1.0//EN
CALSCALE:GREGORIAN
METHOD:PUBLISH
BEGIN:VEVENT
UID:69e4d9377d865
DTSTAMP:20260419T133135Z
DTSTART:20251101T193000Z
DTEND:20251101T220000Z
LOCATION:
SUMMARY:Christmas Tea Choir Rehearsal
DESCRIPTION:Christmas Choir Rehearsal\nhttps://mayflowerclub.com/events/chr
 istmas-tea-choir-rehearsal-3/
URL:https://mayflowerclub.com/events/christmas-tea-choir-rehearsal-3/
END:VEVENT
END:VCALENDAR