BEGIN:VCALENDAR
VERSION:2.0
PRODID:-//eventon.com NONSGML v1.0//EN
CALSCALE:GREGORIAN
METHOD:PUBLISH
BEGIN:VEVENT
UID:69eb133f5585a
DTSTAMP:20260424T065247Z
DTSTART:20231222T210000Z
DTEND:20231222T230000Z
LOCATION:
SUMMARY:Big Band Fridays
DESCRIPTION:Cancelled This Week\,  Please Check Back\nhttps://mayflowerclub
 .com/events/big-band-fridays-2/
URL:https://mayflowerclub.com/events/big-band-fridays-2/
END:VEVENT
END:VCALENDAR