BEGIN:VCALENDAR
VERSION:2.0
PRODID:-//eventon.com NONSGML v1.0//EN
CALSCALE:GREGORIAN
METHOD:PUBLISH
BEGIN:VEVENT
UID:69e6193a68548
DTSTAMP:20260420T121658Z
DTSTART:20231201T210000Z
DTEND:20231201T230000Z
LOCATION:
SUMMARY:Big Band Fridays
DESCRIPTION:\nhttps://mayflowerclub.com/events/big-band-fridays-5/
URL:https://mayflowerclub.com/events/big-band-fridays-5/
END:VEVENT
END:VCALENDAR