BEGIN:VCALENDAR
VERSION:2.0
PRODID:-//eventon.com NONSGML v1.0//EN
CALSCALE:GREGORIAN
METHOD:PUBLISH
BEGIN:VEVENT
UID:69e572d9bb726
DTSTAMP:20260420T002705Z
DTSTART:20250722T020000Z
DTEND:20250722T060000Z
LOCATION:
SUMMARY:Celtic Arts Center
DESCRIPTION:\nhttps://mayflowerclub.com/events/celtic-arts-center-2/var/ri-
 4.l-L1
URL:https://mayflowerclub.com/events/celtic-arts-center-2/var/ri-4.l-L1
END:VEVENT
END:VCALENDAR