BEGIN:VCALENDAR
VERSION:2.0
PRODID:-//eventon.com NONSGML v1.0//EN
CALSCALE:GREGORIAN
METHOD:PUBLISH
BEGIN:VEVENT
UID:69e7dbdae0826
DTSTAMP:20260421T201938Z
DTSTART:20250101
DTEND:20250102
LOCATION:
SUMMARY:Happy New Year!
DESCRIPTION:\nhttps://mayflowerclub.com/events/happy-new-year-2/
URL:https://mayflowerclub.com/events/happy-new-year-2/
END:VEVENT
END:VCALENDAR