BEGIN:VCALENDAR
VERSION:2.0
PRODID:-//eventon.com NONSGML v1.0//EN
CALSCALE:GREGORIAN
METHOD:PUBLISH
BEGIN:VEVENT
UID:69e7337025d0a
DTSTAMP:20260421T082104Z
DTSTART:20240127T220000Z
DTEND:20240128T010000Z
LOCATION:
SUMMARY:Christmas Choir Video Party
DESCRIPTION:Christmas Choir Video Party\nhttps://mayflowerclub.com/events/c
 hristmas-choir-video-party/
URL:https://mayflowerclub.com/events/christmas-choir-video-party/
END:VEVENT
END:VCALENDAR