BEGIN:VCALENDAR
VERSION:2.0
PRODID:-//eventon.com NONSGML v1.0//EN
CALSCALE:GREGORIAN
METHOD:PUBLISH
BEGIN:VEVENT
UID:69e4dd92ad5c6
DTSTAMP:20260419T135010Z
DTSTART:20240328T020000Z
DTEND:20240328T060000Z
LOCATION:
SUMMARY:Flat Foot Frolic
DESCRIPTION:\nhttps://mayflowerclub.com/events/flat-foot-frolic/
URL:https://mayflowerclub.com/events/flat-foot-frolic/
END:VEVENT
END:VCALENDAR